BEGIN:VCALENDAR
VERSION:2.0
PRODID:-// - ECPv4.6//NONSGML v1.0//EN
CALSCALE:GREGORIAN
METHOD:PUBLISH
X-WR-CALNAME:
X-ORIGINAL-URL:http://Abjakultuurimaja.ee/uus
X-WR-CALDESC:Events for 
BEGIN:VEVENT
DTSTART;TZID=UTC+3:20190110T183000
DTEND;TZID=UTC+3:20190110T200000
DTSTAMP:20260423T222849
CREATED:20181228T110345Z
LAST-MODIFIED:20181228T110345Z
UID:4106-1547145000-1547150400@Abjakultuurimaja.ee
SUMMARY:Abja mälumängu III voor
DESCRIPTION:
URL:http://Abjakultuurimaja.ee/uus/event/abja-malumangu-iii-voor-2/
END:VEVENT
END:VCALENDAR