BEGIN:VCALENDAR
VERSION:2.0
PRODID:-// - ECPv4.6//NONSGML v1.0//EN
CALSCALE:GREGORIAN
METHOD:PUBLISH
X-WR-CALNAME:
X-ORIGINAL-URL:http://Abjakultuurimaja.ee/uus
X-WR-CALDESC:Events for 
BEGIN:VEVENT
DTSTART;TZID=UTC+3:20181108T183000
DTEND;TZID=UTC+3:20181108T200000
DTSTAMP:20260422T010551
CREATED:20180827T094243Z
LAST-MODIFIED:20180917T090457Z
UID:3891-1541701800-1541707200@Abjakultuurimaja.ee
SUMMARY:Abja mälumängu avavoor
DESCRIPTION:
URL:http://Abjakultuurimaja.ee/uus/event/abja-malumangu-avavoor/
END:VEVENT
END:VCALENDAR