BEGIN:VCALENDAR
VERSION:2.0
PRODID:-// - ECPv4.6//NONSGML v1.0//EN
CALSCALE:GREGORIAN
METHOD:PUBLISH
X-WR-CALNAME:
X-ORIGINAL-URL:http://Abjakultuurimaja.ee/uus
X-WR-CALDESC:Events for 
BEGIN:VEVENT
DTSTART;TZID=UTC+3:20190314T183000
DTEND;TZID=UTC+3:20190314T200000
DTSTAMP:20260424T235814
CREATED:20190103T140740Z
LAST-MODIFIED:20190103T140740Z
UID:4140-1552588200-1552593600@Abjakultuurimaja.ee
SUMMARY:Abja mälumäng V voor
DESCRIPTION:
URL:http://Abjakultuurimaja.ee/uus/event/abja-malumang-v-voor-2/
END:VEVENT
END:VCALENDAR