BEGIN:VCALENDAR
VERSION:2.0
PRODID:-// - ECPv4.6//NONSGML v1.0//EN
CALSCALE:GREGORIAN
METHOD:PUBLISH
X-WR-CALNAME:
X-ORIGINAL-URL:http://Abjakultuurimaja.ee/uus
X-WR-CALDESC:Events for 
BEGIN:VEVENT
DTSTART;TZID=UTC+3:20181109T190000
DTEND;TZID=UTC+3:20181109T190000
DTSTAMP:20260422T025004
CREATED:20180827T085536Z
LAST-MODIFIED:20180827T085536Z
UID:3885-1541790000-1541790000@Abjakultuurimaja.ee
SUMMARY:Abja Kultuurimaja 60
DESCRIPTION:
URL:http://Abjakultuurimaja.ee/uus/event/abja-kultuurimaja-60/
END:VEVENT
END:VCALENDAR