BEGIN:VCALENDAR
VERSION:2.0
PRODID:-// - ECPv4.6//NONSGML v1.0//EN
CALSCALE:GREGORIAN
METHOD:PUBLISH
X-WR-CALNAME:
X-ORIGINAL-URL:http://Abjakultuurimaja.ee/uus
X-WR-CALDESC:Events for 
BEGIN:VEVENT
DTSTART;TZID=UTC+3:20181215T090000
DTEND;TZID=UTC+3:20181215T140000
DTSTAMP:20260423T010243
CREATED:20180122T084544Z
LAST-MODIFIED:20181113T141305Z
UID:3553-1544864400-1544882400@Abjakultuurimaja.ee
SUMMARY:Abja jõululaat
DESCRIPTION: \n
URL:http://Abjakultuurimaja.ee/uus/event/abja-joululaat-3/
END:VEVENT
END:VCALENDAR